BEGIN:VCALENDAR
VERSION:2.0
PRODID:-//Naturwerkstatt-Artemisia - ECPv6.15.20//NONSGML v1.0//EN
CALSCALE:GREGORIAN
METHOD:PUBLISH
X-WR-CALNAME:Naturwerkstatt-Artemisia
X-ORIGINAL-URL:https://naturwerkstatt-artemisia.de
X-WR-CALDESC:Veranstaltungen für Naturwerkstatt-Artemisia
REFRESH-INTERVAL;VALUE=DURATION:PT1H
X-Robots-Tag:noindex
X-PUBLISHED-TTL:PT1H
BEGIN:VTIMEZONE
TZID:UTC
BEGIN:STANDARD
TZOFFSETFROM:+0000
TZOFFSETTO:+0000
TZNAME:UTC
DTSTART:20250101T000000
END:STANDARD
END:VTIMEZONE
BEGIN:VEVENT
DTSTART;TZID=UTC:20261017T140000
DTEND;TZID=UTC:20261017T160000
DTSTAMP:20260419T162822
CREATED:20260107T165551Z
LAST-MODIFIED:20260107T165551Z
UID:3115-1792245600-1792252800@naturwerkstatt-artemisia.de
SUMMARY:G-IG Kräuterspaziergang "Samen\, Früchte\, Wurzeln"
DESCRIPTION:Der Oktober läd’ uns ein zur letzten Kräuterernte. Mit Samen\, Wurzeln und Früchten schließen Kräuterkundige das Erntejahr ab. Um die Schätze der Natur richtig zu sammeln bedarf es einiger Grundkenntnisse des Kräutersammelns\, die während des Spaziergangs angesprochen werden.  \nTreffpunkt: Wappenschmiede Waldfischbach Richtung Clausensee/Leimen 49\,274357\,7.660150 \nPreis: 15\,- €/ Erwachsene\, ANMELDUNG ERFORDERLICH \nMitzubringen: Dem Wetter angepasste Kleidung\, ggf. Körbchen\, Gartenschere\, Handschuhe.  \nInfo: Heidrun Johner-Allmoslöchner\, 06397-993288\, HeidrunJohner-Allmosloechner@G-IG.de
URL:https://naturwerkstatt-artemisia.de/event/g-ig-kraeuterspaziergang-samen-fruechte-wurzeln
LOCATION:Wappenschmiede Waldfischbach 49°16’29.2″N 7°39’36.8″E\, K32 26\, Waldfischbach-Burgalben\, Rheinlandpfalz\, 67714\, Deutschland
CATEGORIES:Kräuterspaziergang
ATTACH;FMTTYPE=image/jpeg:https://naturwerkstatt-artemisia.de/wp-content/uploads/2020/11/DSC_0028-scaled.jpg
ORGANIZER;CN="G%C3%A4stef%C3%BChrer S%C3%BCdwestpfalz-IG":MAILTO:info@naturwerkstatt-artemisia.de
END:VEVENT
END:VCALENDAR