BEGIN:VCALENDAR
VERSION:2.0
PRODID:-//Naturwerkstatt-Artemisia - ECPv6.15.20//NONSGML v1.0//EN
CALSCALE:GREGORIAN
METHOD:PUBLISH
X-ORIGINAL-URL:https://naturwerkstatt-artemisia.de
X-WR-CALDESC:Veranstaltungen für Naturwerkstatt-Artemisia
REFRESH-INTERVAL;VALUE=DURATION:PT1H
X-Robots-Tag:noindex
X-PUBLISHED-TTL:PT1H
BEGIN:VTIMEZONE
TZID:UTC
BEGIN:STANDARD
TZOFFSETFROM:+0000
TZOFFSETTO:+0000
TZNAME:UTC
DTSTART:20250101T000000
END:STANDARD
END:VTIMEZONE
BEGIN:VEVENT
DTSTART;TZID=UTC:20261212T140000
DTEND;TZID=UTC:20261212T170000
DTSTAMP:20260421T212618
CREATED:20260103T165228Z
LAST-MODIFIED:20260103T165228Z
UID:3047-1797084000-1797094800@naturwerkstatt-artemisia.de
SUMMARY:MGH Waldfischbach-Burgalben Räucherkurs: "Die 12 heiligen Nächte"
DESCRIPTION:Die Nächte zwischen Weihnachten und dem Dreikönigstag waren für unsere Vorfahren eine heilige Zeit und selbst heute können wir ihren Zauber noch immer spüren. In den zwölf sogenannten Rauhnächten vollzog sich der Rückzug ins Häusliche. Man pflegte die Gesellschaft und ließ das Jahr ruhig ausklingen. Der Übergang zwischen den Jahren wurde durch Räucherungen aus heimischen Harzen und Kräutern unterstützt\, die außerdem Haus und Hof vor Wintergeistern schützen und auf die Orakel für das neue Jahr einstimmen sollten. Tauchen Sie mit mir in die Magie der Rauhnächte ein! Die Geschichte der Rauhnächte\, ihr Mythen und das damit verbundene Brauchtum sind Bestandteil des Kurses\, ebenso das Kennenlernen des Räucherwerks\, welches in dieser Zeit verwendet wurde und wird. \nIn der Kräuter-Werkstatt können die Teilnehmenden ihre individuelle Räuchermischung zusammenstellen. Den Abschluss bildet ein kleines Räucher-Ritual. \nMitzubringen:  \nPapier und Stift für persönliche Notizen \nKosten:  \n35 EUR incl. Materialkosten \nOrt:  \nMehrgenerationenhaus Waldfischbach-Burgalben\, alte AOK\, Bahnhofstrasse 1\, Waldfischbach-Burgalben \nVeranstalter: \nMGH Waldfischbach-Burgalben Telefon: 06333-274787 \nLeitung: Heidrun Johner-Allmoslöchner\, Heilpflanzenfachfrau\, Gästeführerin \nMaximale Teilnehmerzahl: 12 \nFür Rückfragen: Heidrun Johner-Allmoslöchner\,  E-Mail: info@naturwerkstatt-artemisia.de
URL:https://naturwerkstatt-artemisia.de/event/mgh-waldfischbach-burgalben-raeucherkurs-die-12-heiligen-naechte
LOCATION:Mehrgenerationenhaus Waldfischbach-Burgalben\, Bahnhofstrasse 1\, Waldfischbach-Burgalben\, Rheinland-Pfalz\, 67714\, Deutschland
CATEGORIES:Räucherkurs
ATTACH;FMTTYPE=image/jpeg:https://naturwerkstatt-artemisia.de/wp-content/uploads/2024/01/20190930_101740-scaled.jpg
END:VEVENT
END:VCALENDAR