BEGIN:VCALENDAR
VERSION:2.0
PRODID:-//Naturwerkstatt-Artemisia - ECPv6.15.20//NONSGML v1.0//EN
CALSCALE:GREGORIAN
METHOD:PUBLISH
X-WR-CALNAME:Naturwerkstatt-Artemisia
X-ORIGINAL-URL:https://naturwerkstatt-artemisia.de
X-WR-CALDESC:Veranstaltungen für Naturwerkstatt-Artemisia
REFRESH-INTERVAL;VALUE=DURATION:PT1H
X-Robots-Tag:noindex
X-PUBLISHED-TTL:PT1H
BEGIN:VTIMEZONE
TZID:UTC
BEGIN:STANDARD
TZOFFSETFROM:+0000
TZOFFSETTO:+0000
TZNAME:UTC
DTSTART:20250101T000000
END:STANDARD
END:VTIMEZONE
BEGIN:VEVENT
DTSTART;TZID=UTC:20261017T140000
DTEND;TZID=UTC:20261017T160000
DTSTAMP:20260421T083233
CREATED:20260107T165551Z
LAST-MODIFIED:20260107T165551Z
UID:3115-1792245600-1792252800@naturwerkstatt-artemisia.de
SUMMARY:G-IG Kräuterspaziergang "Samen\, Früchte\, Wurzeln"
DESCRIPTION:Der Oktober läd’ uns ein zur letzten Kräuterernte. Mit Samen\, Wurzeln und Früchten schließen Kräuterkundige das Erntejahr ab. Um die Schätze der Natur richtig zu sammeln bedarf es einiger Grundkenntnisse des Kräutersammelns\, die während des Spaziergangs angesprochen werden.  \nTreffpunkt: Wappenschmiede Waldfischbach Richtung Clausensee/Leimen 49\,274357\,7.660150 \nPreis: 15\,- €/ Erwachsene\, ANMELDUNG ERFORDERLICH \nMitzubringen: Dem Wetter angepasste Kleidung\, ggf. Körbchen\, Gartenschere\, Handschuhe.  \nInfo: Heidrun Johner-Allmoslöchner\, 06397-993288\, HeidrunJohner-Allmosloechner@G-IG.de
URL:https://naturwerkstatt-artemisia.de/event/g-ig-kraeuterspaziergang-samen-fruechte-wurzeln
LOCATION:Wappenschmiede Waldfischbach 49°16’29.2″N 7°39’36.8″E\, K32 26\, Waldfischbach-Burgalben\, Rheinlandpfalz\, 67714\, Deutschland
CATEGORIES:Kräuterspaziergang
ATTACH;FMTTYPE=image/jpeg:https://naturwerkstatt-artemisia.de/wp-content/uploads/2020/11/DSC_0028-scaled.jpg
ORGANIZER;CN="G%C3%A4stef%C3%BChrer S%C3%BCdwestpfalz-IG":MAILTO:info@naturwerkstatt-artemisia.de
END:VEVENT
BEGIN:VEVENT
DTSTART;TZID=UTC:20261023T190000
DTEND;TZID=UTC:20261023T210000
DTSTAMP:20260421T083233
CREATED:20260103T162654Z
LAST-MODIFIED:20260103T162654Z
UID:3036-1792782000-1792789200@naturwerkstatt-artemisia.de
SUMMARY:MGH Waldfischbach-Burgalben FrauenRaum
DESCRIPTION:Der FrauenRaum ist seit über 10 Jahren ein Ort der Begegnung von und für Frauen. In entspannter und gemütlicher Atmosphäre können Sie Informationen rund um das „Frausein“ austauschen und Gemeinschaft erleben. Wir setzen Impulse\, die dazu  anregen\, sich mit ganz unterschiedlichen Aspekten des Frauenlebens zu beschäftigen. Wir begeben uns mit den Frauen auf Forschungsreise. Gespräche\, Kreativität\, Meditation\, Spiritualität\, Tanz  und vieles mehr\, gehören zu unserem Repertoire. Für besondere Themen werden wir immer wieder von Referentinnen unterstützt. Ein gemeinsamer kleiner Imbiss verbindet und schafft Gemeinschaft\, deshalb freuen wir uns\, wenn die Teilnehmerinnen (nach ihren Möglichkeiten) eine Kleinigkeit zum Essen mitbringen. So kann der Abend gemütlich ausklingen. \n\nVeranstalter: Mehrgenerationenhaus\, alte AOK\, Bahnhofstrasse 1\, Waldfischbach-Burgalben Telefon: 06333-274787
URL:https://naturwerkstatt-artemisia.de/event/mgh-waldfischbach-burgalben-frauenraum-7
LOCATION:Mehrgenerationenhaus Waldfischbach-Burgalben\, Bahnhofstrasse 1\, Waldfischbach-Burgalben\, Rheinland-Pfalz\, 67714\, Deutschland
CATEGORIES:FrauenRaum
ATTACH;FMTTYPE=image/jpeg:https://naturwerkstatt-artemisia.de/wp-content/uploads/2023/12/Frauenraum_Website_Gross.jpg
END:VEVENT
BEGIN:VEVENT
DTSTART;TZID=UTC:20261029T180000
DTEND;TZID=UTC:20261029T210000
DTSTAMP:20260421T083233
CREATED:20260106T160738Z
LAST-MODIFIED:20260106T160738Z
UID:3108-1793296800-1793307600@naturwerkstatt-artemisia.de
SUMMARY:G-IG Der Keltische Jahrkreis - Samhain
DESCRIPTION:Der keltische Jahreskreis – Samhain \nFür die irischen Kelten begann in der Nacht zum November-Neumond das neue Jahr. Samhain gehörte zu den 4 Mondfesten und war ein sehr wichtiges Fest. Einmal war es der Beginn des keltischen Jahreskreises\, und gleichzeitig der Beginn der dunklen Jahreshälfte/Winter. Die Verehrung der Ahnen hatte in der nun beginnenden Zeit ihren Höhepunkt.  \nHeute nimmt der Wunsch\, diese besonderen Tage mit einem Ritual und Fest zu begehen\, zu. Dieses Bedürfnis wollen wir aufgreifen und das Fest Samhain begehen. \nAnmeldeschluss: 26.10.2026 \nTreffpunkt: Hollertalhütte\, 66978 Clausen GPS: 49.2748889\,7.6601945 \nPreis: 20 € ANMELDUNG ERFORDERLICH \nMitbringen: Stirnlampe/Taschenlampe\, Sitzunterlage\, Teller\, Tasse/Glas\, Besteck und einen Gaumenschmaus für die anschließende\, gemeinsame Feier. \nMitwirkende: Gabi Rosta \nInfo: Heidrun Johner-Allmoslöchner\, 06397-993288\, HeidrunJohner-Allmosloechner@G-IG.de
URL:https://naturwerkstatt-artemisia.de/event/g-ig-der-keltische-jahrkreis-samhain-2
LOCATION:Hollertalhütte\, 66978 Clausen\, 7M7V+VFH Clausen\, Deutschland\, Rheinlandpfalz\, 66978\, Deutschland
CATEGORIES:Jahrkreisfest
ATTACH;FMTTYPE=image/jpeg:https://naturwerkstatt-artemisia.de/wp-content/uploads/2024/12/DSC_0038-scaled.jpg
ORGANIZER;CN="G%C3%A4stef%C3%BChrer S%C3%BCdwestpfalz-IG":MAILTO:info@naturwerkstatt-artemisia.de
END:VEVENT
END:VCALENDAR