BEGIN:VCALENDAR
VERSION:2.0
PRODID:-//Naturwerkstatt-Artemisia - ECPv6.15.20//NONSGML v1.0//EN
CALSCALE:GREGORIAN
METHOD:PUBLISH
X-WR-CALNAME:Naturwerkstatt-Artemisia
X-ORIGINAL-URL:https://naturwerkstatt-artemisia.de
X-WR-CALDESC:Veranstaltungen für Naturwerkstatt-Artemisia
REFRESH-INTERVAL;VALUE=DURATION:PT1H
X-Robots-Tag:noindex
X-PUBLISHED-TTL:PT1H
BEGIN:VTIMEZONE
TZID:UTC
BEGIN:STANDARD
TZOFFSETFROM:+0000
TZOFFSETTO:+0000
TZNAME:UTC
DTSTART:20250101T000000
END:STANDARD
END:VTIMEZONE
BEGIN:VEVENT
DTSTART;TZID=UTC:20260904T190000
DTEND;TZID=UTC:20260904T210000
DTSTAMP:20260419T164533
CREATED:20260103T162448Z
LAST-MODIFIED:20260103T162448Z
UID:3034-1788548400-1788555600@naturwerkstatt-artemisia.de
SUMMARY:MGH Waldfischbach-Burgalben FrauenRaum
DESCRIPTION:Der FrauenRaum ist seit über 10 Jahren ein Ort der Begegnung von und für Frauen. In entspannter und gemütlicher Atmosphäre können Sie Informationen rund um das „Frausein“ austauschen und Gemeinschaft erleben. Wir setzen Impulse\, die dazu  anregen\, sich mit ganz unterschiedlichen Aspekten des Frauenlebens zu beschäftigen. Wir begeben uns mit den Frauen auf Forschungsreise. Gespräche\, Kreativität\, Meditation\, Spiritualität\, Tanz  und vieles mehr\, gehören zu unserem Repertoire. Für besondere Themen werden wir immer wieder von Referentinnen unterstützt. Ein gemeinsamer kleiner Imbiss verbindet und schafft Gemeinschaft\, deshalb freuen wir uns\, wenn die Teilnehmerinnen (nach ihren Möglichkeiten) eine Kleinigkeit zum Essen mitbringen. So kann der Abend gemütlich ausklingen. \n\nVeranstalter: Mehrgenerationenhaus\, alte AOK\, Bahnhofstrasse 1\, Waldfischbach-Burgalben Telefon: 06333-274787
URL:https://naturwerkstatt-artemisia.de/event/mgh-waldfischbach-burgalben-frauenraum-6
LOCATION:Mehrgenerationenhaus Waldfischbach-Burgalben\, Bahnhofstrasse 1\, Waldfischbach-Burgalben\, Rheinland-Pfalz\, 67714\, Deutschland
CATEGORIES:FrauenRaum
ATTACH;FMTTYPE=image/jpeg:https://naturwerkstatt-artemisia.de/wp-content/uploads/2023/12/Frauenraum_Website_Gross.jpg
END:VEVENT
BEGIN:VEVENT
DTSTART;TZID=UTC:20260924T180000
DTEND;TZID=UTC:20260924T180000
DTSTAMP:20260419T164533
CREATED:20260106T160330Z
LAST-MODIFIED:20260106T160330Z
UID:3104-1790272800-1790272800@naturwerkstatt-artemisia.de
SUMMARY:G-IG Der keltische Jahrkreis - Herbst-Tag-und-Nachtgleiche/Mabon
DESCRIPTION:Der keltische Jahreskreis – Herbst-Tag-und Nachtgleiche/Mabon  \nZu Mabon\, dem 4. Sonnenfest im keltischen Jahrkreis\, findet in der Natur ein erneuter Wendepunkt statt. Ab dieser Zeit werden die Tage wieder kürzer und die Dunkelheit nimmt zu. Die Natur zieht sich langsam\, in ihr Inneres zurück. Noch einmal ehren wir die Fülle unserer Ernte\, die wir im vergangenen Jahr eingeholt haben. Wir spüren der Ausgeglichenheit von Tag und Nacht nach und erforschen\, was bei uns im Gleichgewicht ist\, bzw. was es noch braucht um ins Gleichgewicht zu kommen. \nMit dem achten Jahrkreisfest schließt sich der Zyklus. Mit einem gemeinsamen Fest feiern wir die Ausgeglichenheit von Dunkelheit und Licht.  \nAnmeldeschluss: 21.09.2026 \nTreffpunkt: Hollertalhütte\, 66978 Clausen GPS: 49.2748889\,7.6601945 \nPreis: 20 € ANMELDUNG ERFORDERLICH \nMitbringen: Stirnlampe/Taschenlampe\, Sitzunterlage\, Tasse/Glas\, Teller\, Besteck und einen Gaumenschmaus für die anschließende Feier\, Obst/Gemüse für den Erntedank. \nMitwirkende: Gabi Rosta \nInfo: Heidrun Johner-Allmoslöchner\, 06397-993288\, HeidrunJohner-Allmosloechner@G-IG.de \nl Freitag\, 29.10.2026; 18:00 Uhr\, ca. 3 Stunden
URL:https://naturwerkstatt-artemisia.de/event/g-ig-der-keltische-jahrkreis-herbst-tag-und-nachtgleiche-mabon
LOCATION:Hollertalhütte\, 66978 Clausen\, 7M7V+VFH Clausen\, Deutschland\, Rheinlandpfalz\, 66978\, Deutschland
CATEGORIES:Jahrkreisfest
ATTACH;FMTTYPE=image/jpeg:https://naturwerkstatt-artemisia.de/wp-content/uploads/2026/01/20241031_180727-scaled.jpg
ORGANIZER;CN="G%C3%A4stef%C3%BChrer S%C3%BCdwestpfalz-IG":MAILTO:info@naturwerkstatt-artemisia.de
END:VEVENT
END:VCALENDAR