BEGIN:VCALENDAR
VERSION:2.0
PRODID:-//Naturwerkstatt-Artemisia - ECPv6.15.20//NONSGML v1.0//EN
CALSCALE:GREGORIAN
METHOD:PUBLISH
X-WR-CALNAME:Naturwerkstatt-Artemisia
X-ORIGINAL-URL:https://naturwerkstatt-artemisia.de
X-WR-CALDESC:Veranstaltungen für Naturwerkstatt-Artemisia
REFRESH-INTERVAL;VALUE=DURATION:PT1H
X-Robots-Tag:noindex
X-PUBLISHED-TTL:PT1H
BEGIN:VTIMEZONE
TZID:UTC
BEGIN:STANDARD
TZOFFSETFROM:+0000
TZOFFSETTO:+0000
TZNAME:UTC
DTSTART:20250101T000000
END:STANDARD
END:VTIMEZONE
BEGIN:VEVENT
DTSTART;TZID=UTC:20260618T180000
DTEND;TZID=UTC:20260618T210000
DTSTAMP:20260419T133629
CREATED:20260106T155929Z
LAST-MODIFIED:20260106T155929Z
UID:3101-1781805600-1781816400@naturwerkstatt-artemisia.de
SUMMARY:G-IG Der keltische Jahrkreis - Mittsommer/Sommersonnwende
DESCRIPTION:Der keltische Jahreskreis – Mittsommer \nDie Sommersonnwendfeiern gehören zu den ältesten Festen der Menschheit und werden von den verschiedensten Völkern und Kulturen weltweit begangen. Gefeiert wird ein Wendepunkt im Sonnenlauf\, die kürzeste Nacht bzw. der längste Tag\, sowie der Beginn des Sommers. Ab Mitsommer werden die Tage wieder kürzer und die Natur geht vom Wachstum in die Zeit der Reife über. Eine Zeit des Überflusses und der Lebensfreude beginnt. \nAuch wir wollen den längsten Tag im Jahr feiern und laden zu einem der wichtigsten Sonnenfest im Jahrkreis ein. \nAnmeldeschluss: 15.06.2026 \nTreffpunkt: Hollertalhütte\, 66978 Clausen GPS: 49.2748889\,7.6601945 \nPreis: 20 € ANMELDUNG ERFORDERLICH \nMitbringen: Stirnlampe/Taschenlampe\, Sitzunterlage\, Tasse/Glas\, Teller\, Besteck und einen Gaumenschmaus für die anschließende Feier\, optional: Würzwisch (Kräuterstrauß von Maria Himmelfahrt) vom vergangenen Jahr. \nMitwirkende: Gabi Rosta \nInfo: Heidrun Johner-Allmoslöchner\, 06397-993288\, HeidrunJohner-Allmosloechner@G-IG.de
URL:https://naturwerkstatt-artemisia.de/event/g-ig-der-keltische-jahrkreis-mittsommer-sommersonnwende
LOCATION:Hollertalhütte\, 66978 Clausen\, 7M7V+VFH Clausen\, Deutschland\, Rheinlandpfalz\, 66978\, Deutschland
CATEGORIES:Jahrkreisfest
ATTACH;FMTTYPE=image/jpeg:https://naturwerkstatt-artemisia.de/wp-content/uploads/2026/01/20240620_191029-scaled.jpg
ORGANIZER;CN="G%C3%A4stef%C3%BChrer S%C3%BCdwestpfalz-IG":MAILTO:info@naturwerkstatt-artemisia.de
END:VEVENT
BEGIN:VEVENT
DTSTART;TZID=UTC:20260619T190000
DTEND;TZID=UTC:20260619T210000
DTSTAMP:20260419T133629
CREATED:20260103T162245Z
LAST-MODIFIED:20260103T162245Z
UID:3032-1781895600-1781902800@naturwerkstatt-artemisia.de
SUMMARY:MGH Waldfischbach-Burgalben FrauenRaum
DESCRIPTION:Der FrauenRaum ist seit über 10 Jahren ein Ort der Begegnung von und für Frauen. In entspannter und gemütlicher Atmosphäre können Sie Informationen rund um das „Frausein“ austauschen und Gemeinschaft erleben. Wir setzen Impulse\, die dazu  anregen\, sich mit ganz unterschiedlichen Aspekten des Frauenlebens zu beschäftigen. Wir begeben uns mit den Frauen auf Forschungsreise. Gespräche\, Kreativität\, Meditation\, Spiritualität\, Tanz  und vieles mehr\, gehören zu unserem Repertoire. Für besondere Themen werden wir immer wieder von Referentinnen unterstützt. Ein gemeinsamer kleiner Imbiss verbindet und schafft Gemeinschaft\, deshalb freuen wir uns\, wenn die Teilnehmerinnen (nach ihren Möglichkeiten) eine Kleinigkeit zum Essen mitbringen. So kann der Abend gemütlich ausklingen. \n\nVeranstalter: Mehrgenerationenhaus\, alte AOK\, Bahnhofstrasse 1\, Waldfischbach-Burgalben Telefon: 06333-274787
URL:https://naturwerkstatt-artemisia.de/event/mgh-waldfischbach-burgalben-frauenraum-5
LOCATION:Mehrgenerationenhaus Waldfischbach-Burgalben\, Bahnhofstrasse 1\, Waldfischbach-Burgalben\, Rheinland-Pfalz\, 67714\, Deutschland
CATEGORIES:FrauenRaum
ATTACH;FMTTYPE=image/jpeg:https://naturwerkstatt-artemisia.de/wp-content/uploads/2023/12/Frauenraum_Website_Gross.jpg
END:VEVENT
END:VCALENDAR