BEGIN:VCALENDAR
VERSION:2.0
PRODID:-//Naturwerkstatt-Artemisia - ECPv6.15.20//NONSGML v1.0//EN
CALSCALE:GREGORIAN
METHOD:PUBLISH
X-ORIGINAL-URL:https://naturwerkstatt-artemisia.de
X-WR-CALDESC:Veranstaltungen für Naturwerkstatt-Artemisia
REFRESH-INTERVAL;VALUE=DURATION:PT1H
X-Robots-Tag:noindex
X-PUBLISHED-TTL:PT1H
BEGIN:VTIMEZONE
TZID:UTC
BEGIN:STANDARD
TZOFFSETFROM:+0000
TZOFFSETTO:+0000
TZNAME:UTC
DTSTART:20250101T000000
END:STANDARD
END:VTIMEZONE
BEGIN:VEVENT
DTSTART;TZID=UTC:20260319T180000
DTEND;TZID=UTC:20260319T210000
DTSTAMP:20260421T130354
CREATED:20260103T170518Z
LAST-MODIFIED:20260311T164932Z
UID:3052-1773943200-1773954000@naturwerkstatt-artemisia.de
SUMMARY:G-iG "Der keltische Jahrkreis - Frühlings-Tag-und-Nachtgleiche/Ostara"
DESCRIPTION:Mit der Frühlings-Tag-und Nachtgleiche begehen wir das 2. Sonnenfest im keltischen Jahrkreis. Ostara wird traditionell am ersten Vollmond nach der Frühlings-Tag-und-Nachtgleiche ausgerichtet. Mit der Frühlings-Tag-und-Nachtgleiche beginnt in der Natur ein neuer Vegetationszyklus. Alles in der Natur fängst an zu wachsen und zu gedeihen. In uns Menschen nehmen Ideen oder Projekte langsam Gestalt an. \nDas Fest steht ganz im Zeichen der Geburt\, des Aufbrechens\, der Inspiriation und des Vertrauens. Es ist ein Begrüßen des Neuen\, des Frühlings und des jungen Leben. \nGemäß dem keltischen Jahreskreis\, wollen wir die Ausgeglichenheit von Dunkelheit und Licht feiern.  \nAnmeldeschluss: 16.03.2026 \nTreffpunkt: Hollertalhütte\, 66978 Clausen GPS: 49.2748889\,7.6601945 \nPreis: 20 € ANMELDUNG ERFORDERLICH \nMitbringen: \nGartenschere\, ggf. Handschuhe\, Körbchen\, Uhr\, Schmuckband\, Stirnlampe/Taschenlampe\, Sitzunterlage\, Tasse/Glas\, Teller\, Besteck und einen Gaumenschmaus für die anschließende Feier. \nMitwirkende: Gabi Rosta \nInfo: Heidrun Johner-Allmoslöchner\, 06397-993288\, HeidrunJohner-Allmosloechner@G-IG.de
URL:https://naturwerkstatt-artemisia.de/event/g-ig-der-keltische-jahrkreis-fruehlings-tag-und-nachtgleiche-ostara
LOCATION:Hollertalhütte\, 66978 Clausen\, 7M7V+VFH Clausen\, Deutschland\, Rheinlandpfalz\, 66978\, Deutschland
CATEGORIES:Jahrkreisfest
ATTACH;FMTTYPE=image/jpeg:https://naturwerkstatt-artemisia.de/wp-content/uploads/2026/01/20230323_194146-scaled.jpg
END:VEVENT
BEGIN:VEVENT
DTSTART;TZID=UTC:20260327T190000
DTEND;TZID=UTC:20260327T210000
DTSTAMP:20260421T130354
CREATED:20260103T161603Z
LAST-MODIFIED:20260323T145702Z
UID:3027-1774638000-1774645200@naturwerkstatt-artemisia.de
SUMMARY:MGH Waldfischbach-Burgalben FrauenRaum
DESCRIPTION:Wir begrüßen den Frühling! \nFrisches Grün\, milde Temperaturen\, Vogelgezwitscher\,…. Der Frühling hat Einzug gehalten. Gemeinsam wollen wir den Frühling mit allen Sinnen begrüßen. Hildegard von Bingen lobte die „Grünkraft“\, die diese Zeit Jahr für Jahr hervorbringt und empfahl den Menschen\, sich die Lebenskraft der Natur einzuverleiben. Mit Leichtigkeit und frischem Wind wollen wir in den Frühling starten.  \nEin kleiner Beitrag\, wenn machbar\, zu unserem Fingerfood buffet rundet den Abend ab und wir freuen uns auf viel Austausch\, Freude und Genuss!  \nHeidrun und Gabi \nVeranstalter: Mehrgenerationenhaus\, alte AOK\, Bahnhofstrasse 1\, Waldfischbach-Burgalben Telefon: 06333-274787
URL:https://naturwerkstatt-artemisia.de/event/mgh-waldfischbach-burgalben-frauenraum-3
LOCATION:Mehrgenerationenhaus Waldfischbach-Burgalben\, Bahnhofstrasse 1\, Waldfischbach-Burgalben\, Rheinland-Pfalz\, 67714\, Deutschland
CATEGORIES:FrauenRaum
ATTACH;FMTTYPE=image/jpeg:https://naturwerkstatt-artemisia.de/wp-content/uploads/2020/04/DSC_0148-scaled.jpg
END:VEVENT
END:VCALENDAR