BEGIN:VCALENDAR
VERSION:2.0
PRODID:-//Naturwerkstatt-Artemisia - ECPv6.15.20//NONSGML v1.0//EN
CALSCALE:GREGORIAN
METHOD:PUBLISH
X-ORIGINAL-URL:https://naturwerkstatt-artemisia.de
X-WR-CALDESC:Veranstaltungen für Naturwerkstatt-Artemisia
REFRESH-INTERVAL;VALUE=DURATION:PT1H
X-Robots-Tag:noindex
X-PUBLISHED-TTL:PT1H
BEGIN:VTIMEZONE
TZID:UTC
BEGIN:STANDARD
TZOFFSETFROM:+0000
TZOFFSETTO:+0000
TZNAME:UTC
DTSTART:20250101T000000
END:STANDARD
END:VTIMEZONE
BEGIN:VEVENT
DTSTART;TZID=UTC:20261217T180000
DTEND;TZID=UTC:20261217T210000
DTSTAMP:20260425T112029
CREATED:20260107T165028Z
LAST-MODIFIED:20260107T165028Z
UID:3110-1797530400-1797541200@naturwerkstatt-artemisia.de
SUMMARY:G-IG Der keltische Jahrkreis - Mittwinter/ Wintersonnwende
DESCRIPTION:Der keltische Jahreskreis – Wintersonnwende \nZur Wintersonnwende feiern wir den kürzesten Tag im Jahreslauf und die längste Nacht. Traditionell gehört Mitwinter zu den Sonnenfesten\, denn in der längsten Nacht des Jahres wird das neue Licht geboren. Die dunkelste Zeit im Jahreslauf steht ganz im Zeichen von Wandlung\, innerer Reife\, Weisheit und Wiedergeburt. Wie sich das Jahr vollendet\, so kann auch der Mensch diese besondere Zeit dazu nutzen\, Vergangenes abzuschließen um dann optimistisch dem Neuen entgegenzublicken. \nHeute nimmt der Wunsch\, diese besonderen Tage mit einem Ritual und Fest zu begehen\, zu. Dieses Bedürfnis wollen wir aufgreifen und gemäß dem keltischen Jahreskreis das Wintersonnwend-Fest Jul feiern. \nAnmeldeschluss: 14.12.2026 \nTreffpunkt: Hollertalhütte\, 66978 Clausen GPS: 49.2748889\,7.6601945 \nPreis: 20 € ANMELDUNG ERFORDERLICH \nMitbringen: Stirnlampe/Taschenlampe\, Sitzunterlage\,Tasse/Glas\, Teller\, Besteck und einen Gaumenschmaus für die anschließende\, gemeinsame Feier. \nMitwirkende: Gabi Rosta \nInfo: Heidrun Johner-Allmoslöchner\, 06397-993288\, HeidrunJohner-Allmosloechner@G-IG.de
URL:https://naturwerkstatt-artemisia.de/event/g-ig-der-keltische-jahrkreis-mittwinter-wintersonnwende
LOCATION:Hollertalhütte\, 66978 Clausen\, 7M7V+VFH Clausen\, Deutschland\, Rheinlandpfalz\, 66978\, Deutschland
CATEGORIES:Jahrkreisfest
ATTACH;FMTTYPE=image/jpeg:https://naturwerkstatt-artemisia.de/wp-content/uploads/2026/01/20231221_191641-scaled.jpg
ORGANIZER;CN="G%C3%A4stef%C3%BChrer S%C3%BCdwestpfalz-IG":MAILTO:info@naturwerkstatt-artemisia.de
END:VEVENT
END:VCALENDAR